BEGIN:VCALENDAR
VERSION:2.0
PRODID:-//Ocorre - ECPv6.15.11//NONSGML v1.0//EN
CALSCALE:GREGORIAN
METHOD:PUBLISH
X-WR-CALNAME:Ocorre
X-ORIGINAL-URL:https://ocorre.pt
X-WR-CALDESC:Eventos para Ocorre
REFRESH-INTERVAL;VALUE=DURATION:PT1H
X-Robots-Tag:noindex
X-PUBLISHED-TTL:PT1H
BEGIN:VTIMEZONE
TZID:Europe/Lisbon
BEGIN:DAYLIGHT
TZOFFSETFROM:+0000
TZOFFSETTO:+0100
TZNAME:WEST
DTSTART:20240331T010000
END:DAYLIGHT
BEGIN:STANDARD
TZOFFSETFROM:+0100
TZOFFSETTO:+0000
TZNAME:WET
DTSTART:20241027T010000
END:STANDARD
BEGIN:DAYLIGHT
TZOFFSETFROM:+0000
TZOFFSETTO:+0100
TZNAME:WEST
DTSTART:20250330T010000
END:DAYLIGHT
BEGIN:STANDARD
TZOFFSETFROM:+0100
TZOFFSETTO:+0000
TZNAME:WET
DTSTART:20251026T010000
END:STANDARD
BEGIN:DAYLIGHT
TZOFFSETFROM:+0000
TZOFFSETTO:+0100
TZNAME:WEST
DTSTART:20260329T010000
END:DAYLIGHT
BEGIN:STANDARD
TZOFFSETFROM:+0100
TZOFFSETTO:+0000
TZNAME:WET
DTSTART:20261025T010000
END:STANDARD
END:VTIMEZONE
BEGIN:VEVENT
DTSTART;TZID=Europe/Lisbon:20250912T170000
DTEND;TZID=Europe/Lisbon:20250914T170000
DTSTAMP:20260422T094225
CREATED:20250605T150431Z
LAST-MODIFIED:20250605T150604Z
UID:1290-1757696400-1757869200@ocorre.pt
SUMMARY:4ª Edição Trafaria Bluegrass
DESCRIPTION:O Bluegrass está de volta à Trafaria! 💙 \nPrepara-te para reviver a magia do festival Onde O Tejo Se Faz ao Mar! \nDe 12 a 14 de setembro\, preparem-se para três dias de música bluegrass onde o tejo se faz ao mar! ⛰️ \nPrepara o teu banjo\, a tua guitarra e a boa disposição\, porque o Trafaria Bluegrass está de volta para te levar numa viagem inesquecível pelo mundo da música tradicional americana . \nNo cartaz deste ano\, podem contar com música\, atividades para toda a família e muito mais! \nNão percas esta oportunidade de viver uma experiência única!️
URL:https://ocorre.pt/evento/4a-edicao-trafaria-bluegrass/
LOCATION:Lisboa
ATTACH;FMTTYPE=image/png:https://ocorre.pt/wp-content/uploads/2025/06/1920-1080-bandas.png
END:VEVENT
END:VCALENDAR