BEGIN:VCALENDAR
VERSION:2.0
PRODID:-//Ocorre - ECPv6.15.11//NONSGML v1.0//EN
CALSCALE:GREGORIAN
METHOD:PUBLISH
X-WR-CALNAME:Ocorre
X-ORIGINAL-URL:https://ocorre.pt
X-WR-CALDESC:Eventos para Ocorre
REFRESH-INTERVAL;VALUE=DURATION:PT1H
X-Robots-Tag:noindex
X-PUBLISHED-TTL:PT1H
BEGIN:VTIMEZONE
TZID:Europe/Lisbon
BEGIN:DAYLIGHT
TZOFFSETFROM:+0000
TZOFFSETTO:+0100
TZNAME:WEST
DTSTART:20250330T010000
END:DAYLIGHT
BEGIN:STANDARD
TZOFFSETFROM:+0100
TZOFFSETTO:+0000
TZNAME:WET
DTSTART:20251026T010000
END:STANDARD
BEGIN:DAYLIGHT
TZOFFSETFROM:+0000
TZOFFSETTO:+0100
TZNAME:WEST
DTSTART:20260329T010000
END:DAYLIGHT
BEGIN:STANDARD
TZOFFSETFROM:+0100
TZOFFSETTO:+0000
TZNAME:WET
DTSTART:20261025T010000
END:STANDARD
BEGIN:DAYLIGHT
TZOFFSETFROM:+0000
TZOFFSETTO:+0100
TZNAME:WEST
DTSTART:20270328T010000
END:DAYLIGHT
BEGIN:STANDARD
TZOFFSETFROM:+0100
TZOFFSETTO:+0000
TZNAME:WET
DTSTART:20271031T010000
END:STANDARD
END:VTIMEZONE
BEGIN:VEVENT
DTSTART;TZID=Europe/Lisbon:20260307T200000
DTEND;TZID=Europe/Lisbon:20260307T233000
DTSTAMP:20260422T021247
CREATED:20250429T090121Z
LAST-MODIFIED:20250429T090121Z
UID:1264-1772913600-1772926200@ocorre.pt
SUMMARY:Motionless In White
DESCRIPTION:MOTIONLESS IN WHITE ESTREIAM-SE EM PORTUGAL EM MARÇO DE 2026\nA força mais cinematográfica do metal moderno sobe finalmente a um palco nacional durante o primeiro trimestre do próximo ano. \n\n\n\n\n\n\n\n\n\n\n\n\n\n\nPela primeira vez em solo português\, os MOTIONLESS IN WHITE vão atuar na Sala Tejo da MEO Arena\, em Lisboa\, no dia 7 de Março de 2026\, e apresentar um espetáculo que promete marcar a memória dos fãs nacionais com uma experiência sonora e visual arrebatadora. Com uma estética sombria e teatral que atravessa transversalmente os universos do rock/metal industrial\, da música pop de contornos góticos e de uma iconografia visual profundamente inspirada pelo cinema de terror\, os norte-americanos MOTIONLESS IN WHITE são uma das propostas mais singulares e mais provocadoras do rock pesado contemporâneo. \nDesde os primeiros passos em Scranton\, na Pensilvânia\, até à aclamação a nível global\, o quinteto liderado pelo carismático Chris Motionless construiu uma base de seguidores fervorosa e muito dedicada\, conquistando palcos e audiências um álbum de cada vez. O percurso\, por esta altura\, é sobejamente impressionante: são já mais de mil milhões de streams e visualizações acumuladas nas principais plataformas digitais\, quatro estreias consecutivas no Top 5 das tabelas de vendas ‘Top Hard Rock Albums’ e ‘Top Rock Albums’ da reputada Billboard\, e uma sucessão de álbuns que redefinem os limites do som da banda. \nDe «Reincarnate»\, de 2014\, a «Graveyard Shift» e «Disguise»\, de 2017 e 2019\, respetivamente\, os MOTIONLESS IN WHITE têm vindo a refinar uma linguagem própria\, culminando no aclamado «Scoring The End Of The World»\, lançado em 2022\, que estreou no #12 da Billboard 200. Este último LP\, que representou uma maturidade artística e conceptual sem precedentes\, inclui o single «Masterpiece»\, primeiro tema do grupo a atingir o #1 na ‘Active Rock Radio’ norte-americana. Mais do que um simples êxito\, a canção simboliza bem o alcance e a relevância dos MOTIONLESS IN WHITE num universo onde a música pesada se cruza com a emoção crua e a ambição visual. \nEm 2025\, os MOTIONLESS IN WHITE entram numa nova fase da sua carreira – mais intensa\, mais desafiante e mais monumental que nunca. A digressão europeia de 2026 marca não só a extensão dessa visão como também um momento histórico para todos os fãs portugueses\, que finalmente vão testemunhar ao vivo a intensidade de um espetáculo onde o som e a imagem se fundem numa experiência para mais tarde recordar. A formação atual do grupo conta com Chris Motionless na voz\, Ricky Olson e Ryan Sitkowski nas guitarras\, Justin Morrow no baixo e Vinny Mauro na bateria – um coletivo coeso e explosivo que promete incendiar a Sala Tejo da MEO Arena com uma atuação inesquecível. \nCom uma estética visual marcada por elementos góticos\, cyberpunk e horror\, os MOTIONLESS IN WHITE já são mais do que uma banda — são um universo. A figura de Chris Motionless\, sempre envolta em mistério e intensidade\, tornou-se um ícone para milhares de fãs que veem no grupo não apenas música\, mas uma forma de expressão identitária. No primeiro trimestre de 2026\, o nosso país vai testemunhar então o fenómeno ao vivo e a cores\, com a estreia nacional de uma das forças mais singulares do metal moderno. Para os que seguem os MOTIONLESS IN WHITE há anos\, e para todos os curiosos que querem viver uma experiência única\, o dia 7 de Março do próximo ano será uma data para marcar já a negro no calendário.
URL:https://ocorre.pt/evento/motionless-in-white/
LOCATION:Sala Tejo
ATTACH;FMTTYPE=image/webp:https://ocorre.pt/wp-content/uploads/2025/04/MotionlessinWhite-Evento-Main-2026.webp
END:VEVENT
BEGIN:VEVENT
DTSTART;TZID=Europe/Lisbon:20260320T053000
DTEND;TZID=Europe/Lisbon:20260320T233000
DTSTAMP:20260422T021247
CREATED:20250929T175141Z
LAST-MODIFIED:20250929T175141Z
UID:1319-1773984600-1774049400@ocorre.pt
SUMMARY:Kreator + Carcass + Exodus + Nails
DESCRIPTION:QUATRO GERAÇÕES DO METAL EXTREMO UNEM-SE NUMA SÓ NOITE EM LISBOA\nA KRUSHERS OF THE WORLD TOUR chega Portugal em Março de 2026 com KREATOR\, CARCASS\, EXODUS e NAILS \n\n\n\n\n\n\n\n\n\n\n\n\n\n\n\n\n\n\n\nNo dia 20 de Março de 2026\, a Sala Tejo da MEO Arena\, em Lisboa\, recebe a única data portuguesa da digressão Krushers Of The World Tour\, um encontro raro que reúne num mesmo cartaz quatro nomes de referência que ajudaram a moldar e continuam a redefinir o som extremo. Os alemães KREATOR\, os britânicos CARCASS\, os norte-americanos EXODUS e NAILS representam não apenas diferentes geografias\, mas também distintas fases da evolução do género\, criando um alinhamento que atravessa mais de quatro décadas de história musical. \nNesta ocasião\, os lendários KREATOR regressam uma vez mais a Portugal como cabeças de cartaz\, trazendo consigo não apenas o legado de mais de quarenta anos de carreira\, mas também novo material. Na sequência do explosivo «Hate Über Alles»\, lançado em 2022\, o quarteto liderado por Mille Petrozza prepara-se para editar o seu muito aguardado novo álbum de estúdio\, intitulado «Krushers Of The World»\, em Janeiro de 2026\, que vai estar no centro da tour. Esta será\, portanto\, uma oportunidade única para o público luso ouvir pela primeira vez ao vivo algumas das novas canções\, ao lado de clássicos como «Pleasure to Kill»\, «Phobia» ou «Violent Revolution». \n“Estamos extremamente entusiasmados por começar o novo ano com o lançamento do nosso mais recente álbum\, «Krushers Of The World»\, que chega a 16 de Janeiro de 2026!”\, diz Mille Petrozza. “Mas isso não é tudo! No dia 20 de Março\, arrancamos para a estrada com a maior produção que alguma vez tivemos. Será uma noite de metal implacável\, com a participação dos nossos irmãos de armas Carcass\, Exodus e também os poderosos Nails. Este momento marca o início de um novo e entusiasmante capítulo para a banda\, e mal podemos esperar para que experienciem os novos temas ao vivo\, juntamente com uma seleção de clássicos antigos e recentes. Hail to the hordes! \m/”. \nAo lado de Petrozza e companhia surgem os CARCASS\, referência indiscutível do metal britânico e precursores de várias linguagens extremas. Desde a brutalidade crua de «Symphonies Of Sickness» até ao estatuto de fundadores do death metal melódico com «Heartwork»\, Jeff Walker e Bill Steer são um caso único de reinvenção contínua. Após o regresso com «Surgical Steel»\, lançado em 2013\, e a confirmação da vitalidade artística com o aplaudido «Torn Arteries»\, de 2021\, o grupo continua a oferecer concertos que percorrem toda a sua história\, equilibrando a visceralidade do grindcore inicial com a sofisticação melódica que lhes trouxe reconhecimento mundial. A presença da dupla de fundadores mantém intacta a identidade inconfundível de uma banda que marcou várias gerações. \nPioneiros da infame cena thrash da Bay Area\, os EXODUS regressam a Portugal numa fase criativa renovada. Depois da edição do colossal «Persona Non Grata»\, de 2021\, o grupo trocou novamente de vocalista e prepara-se para editar um novo disco em 2026\, cujas primeiras faixas de avanço vão certamente fazer parte do alinhamento interpretado nesta digressão. Esta será\, portanto\, uma rara oportunidade para assistir a um concerto que conjuga as raízes históricas de «Bonded by Blood» com a vitalidade do novo material. Com Gary Holt\, uma figura essencial tanto desta banda como do legado dos Slayer\, ao leme\, o grupo continua a ser um dos símbolos mais consistentes do género. \nA abrir a noite estarão os “brutalistas” norte-americanos NAILS\, cuja sonoridade incisiva\, intensa e abrasiva redefiniu o peso extremo durante a última década. Conhecidos por temas que raramente ultrapassam os dois minutos\, condensam elementos de hardcore\, grind e death metal num estilo próprio\, que encontrou no contundente «You Will Never Be One Of Us»\, editado em 2016\, o seu manifesto mais brutal. A estreia da banda liderada pelo guitarrista/vocalista Todd Jones por cá é aguardada com particular expectativa\, dando a este cartaz um olhar sobre a nova geração do metal extremo. \nResultado\, o encontro destes quatro nomes em Lisboa permite traçar uma linha de continuidade que vai do thrash europeu e norte-americano à sofisticação do death metal melódico britânico e à vitalidade do hardcore/metal contemporâneo. Para o público português\, o concerto assume ainda uma dupla dimensão: por um lado\, o reencontro com bandas que já deixaram marca em passagens anteriores pelo nosso país; por outro\, a estreia aguardada de material inédito dos novos álbuns dos KREATOR e EXODUS. Essa combinação entre a intemporalidade dos clássicos e a apresentação de novas composições confirma que estas bandas não se limitam apenas a revisitar a sua herança\, mas permanecem ativamente apostadas em expandir os limites da música extrema\, mantendo-a atual e projetada para o futuro com a mesma urgência criativa que definiu a sua origem. \nOs bilhetes para o espetáculo custam entre 45€ (bancada) e 50€ (plateia)\, e vão estar disponíveis numa pré-venda exclusiva em www.kreator-terrorzone.de a partir da próxima sexta-feira\, 26 de Setembro\, às 09:00. A venda ao público em geral arranca na segunda-feira\, dia 29 de Setembro\, também às 09:00\, em primeartists.eu e nos locais habituais.
URL:https://ocorre.pt/evento/kreator-carcass-exodus-nails/
LOCATION:Sala Tejo
ATTACH;FMTTYPE=image/webp:https://ocorre.pt/wp-content/uploads/2025/09/Kreator-Evento-Main-2026.webp
END:VEVENT
BEGIN:VEVENT
DTSTART;TZID=Europe/Lisbon:20260530T200000
DTEND;TZID=Europe/Lisbon:20260530T233000
DTSTAMP:20260422T021247
CREATED:20250929T175320Z
LAST-MODIFIED:20250929T175320Z
UID:1322-1780171200-1780183800@ocorre.pt
SUMMARY:Malevolence
DESCRIPTION:Depois de conquistarem os grandes festivais de Verão e de partilharem palcos com bandas como Trivium e Parkway Drive\, os britânicos MALEVOLENCE regressam a Portugal para apresentar a novidade «Where Only The Truth Is Spoken»\, no LAV – Lisboa ao Vivo\, a 30 de Maio de 2026.\n\n\n\n\n\n\n\n\n\n\n\n\n\n\n\n\n\n\n\nOs MALEVOLENCE regressam por fim a Portugal para o seu primeiro concerto em nome próprio\, um acontecimento que promete destacar-se como um dos grandes momentos do calendário do som pesado durante o primeiro semestre de 2026. Vindos de Sheffield e reconhecidos como uma das forças mais sólidas e inovadoras do panorama contemporâneo\, os britânicos apresentam-se no LAV – Lisboa ao Vivo\, a 30 de Maio de 2026\, prontos para oferecer ao público português uma noite de intensidade sem concessões\, marcada por altas doses de energia\, peso e emoção em estado puro. Esta será também a primeira oportunidade para os fãs nacionais testemunharem ao vivo a força de «Where Only The Truth Is Spoken»\, o mais recente álbum da banda\, lançado pela Nuclear Blast Records e já apontado como um dos marcos mais relevantes da sua carreira. \nConhecidos pela intensidade das suas atuações\, os MALEVOLENCE transformam cada espetáculo numa experiência coletiva em que a música funciona como catalisador de comunhão entre a banda e a audiência. A ascensão do grupo tem sido notória e imparável. De um primeiro concerto vespertino no palco principal do Bloodstock Festival em 2021 a um lugar de destaque no cartaz do mesmo evento em 2024\, os músicos britânicos demonstraram que o trabalho árduo e a coerência artística ainda têm retorno. A sua reputação ao vivo já lhes garantiu lugar nos maiores festivais e digressões tanto deste como do outro lado do Atlântico\, sendo hoje sinónimo de espetáculos tão abrasivos quanto inesquecíveis. \nCom o lançamento de «Where Only The Truth Is Spoken» a banda britânica entra agora num novo patamar da sua carreira. Gravado na Califórnia\, no lendário Studio 606 de Dave Grohl\, o quarto álbum dos MALEVOLENCE foi captado através da icónica mesa de som responsável pelo clássico «Nevermind»\, dos Nirvana. Produzido por Josh Wilbur (famoso pelo seu trabalho com os Lamb of God\, Gojira e Trivium\, entre outros)\, o disco revelou um grupo no auge da sua criatividade\, mais preciso na composição\, mas sem perder um grama do peso demolidor que sempre o distinguiu. Em palco\, essa força ganha uma dimensão ainda mais intensa\, sendo que o alinhamento previsto para o concerto de regresso a solo luso deve refletir a energia e diversidade de «Where Only The Truth Is Spoken»\, cruzando novos temas com faixas que\, por esta altura\, já são clássicos recentes do fundo de catálogo da banda. \n“Yo! Estamos muito entusiasmados por anunciar a maior digressão em nome próprio da nossa carreira até agora”\, declara Alex Taylor\, o carismático vocalista dos MALEVOLENCE. “Para nós\, é absolutamente insano percebermos que estamos confirmados em algumas das salas mais icónicas e lendárias da Europa e do Reino Unido\, e precisamos de todo o vosso apoio para provarmos ao mundo do metal que também somos capazes de arrasar como cabeças de cartaz. Mal podemos esperar por estes concertos.” Portanto\, está mais que visto que\, no regresso a Lisboa\, a banda vai reafirmar a sua reputação de força imparável ao vivo\, transformando o LAV – Lisboa ao Vivo num verdadeiro epicentro de peso e energia. \nOs bilhetes para o espetáculo custam 28€ e estão à venda a partir de segunda-feira\, dia 22 de Setembro\, em primeartists.eu e também nos locais habituais.
URL:https://ocorre.pt/evento/malevolence/
LOCATION:LAV\, Av. Mar. Gomes da Costa 29 B1\, Lisboa\, Lisboa\, 1800-255\, Portugal
ATTACH;FMTTYPE=image/webp:https://ocorre.pt/wp-content/uploads/2025/09/Malevolence-Evento-Main-2026.webp
END:VEVENT
BEGIN:VEVENT
DTSTART;TZID=Europe/Lisbon:20260707T180000
DTEND;TZID=Europe/Lisbon:20260707T233000
DTSTAMP:20260422T021247
CREATED:20250929T175657Z
LAST-MODIFIED:20250929T180033Z
UID:1325-1783447200-1783467000@ocorre.pt
SUMMARY:Iron Maiden
DESCRIPTION:IRON MAIDEN ANUNCIAM O MAIOR CONCERTO DA SUA CARREIRA EM PORTUGAL: ESTÁDIO DA LUZ RECEBE A ‘RUN FOR YOUR LIVES EUROPEAN TOUR’ EM JULHO DE 2026 \nDepois de esgotarem a MEO Arena em apenas seis horas\, os gigantes do heavy metal regressam a Lisboa para uma noite de grandiosidade sem precedentes. \nPré-venda exclusiva lojas FNAC dia 23 de Setembro durante 24h00 / Venda geral no dia 27 de Setembro. \n\n\n\n\n\n\n\n\n\n\n\n\n\n\n\n\n\n\n\nOs IRON MAIDEN acabam de anunciar o regresso a Portugal para aquele que promete ser o maior concerto da sua carreira no nosso país. No dia 7 de Julho de 2026\, o Estádio da Luz\, em Lisboa\, vai abrir as portas a um espetáculo de proporções colossais\, inserido em mais uma etapa da digressão mundial Run For Your Lives Tour 2025/2026. Poucos meses passaram desde que a lendária banda britânica protagonizou uma noite histórica na MEO Arena\, onde 20 mil fãs encheram cada canto do recinto num espetáculo que esgotou em apenas seis horas\, mas\, no próximo ano\, o grupo liderado por Steve Harris e Bruce Dickinson promete ainda mais e melhor. \n“Estamos a adorar esta Run For Your Lives Tour”\, afiança Steve Harris. “Os fãs têm sido incríveis\, o alinhamento está perfeito para o 50º aniversário\, o espetáculo é\, provavelmente\, o nosso melhor de sempre e a procura de bilhetes tem sido extraordinária\, com praticamente tudo esgotado e mais de um milhão de fãs presentes. Por isso\, pensamos que deveríamos fazer mais alguns concertos na Europa antes de seguir para outras partes do mundo. É claro que o Simon Dawson vai voltar a sentar-se na bateria\, e tanto ele como toda a banda gostariam de agradecer aos fãs pelo fantástico acolhimento que lhe deram na primeira fase da digressão.” \nO concerto deste ano\, descrito pela crítica e pelos fãs como um dos mais intensos e emocionantes que a banda já realizou em território nacional\, foi apenas o prelúdio de algo ainda maior. Em 2026\, os IRON MAIDEN regressam para elevar a fasquia a um nível jamais visto em Portugal. A atuação no Estádio da Luz promete ser uma celebração monumental de música\, teatro e memória coletiva. Um palco maior\, cenários imersivos\, projeções visuais arrebatadoras e uma encenação onde Eddie\, a mascote eterna da banda\, regressará em novas e surpreendentes formas. Portanto\, a experiência que\, em 2025\, arrebatou o público português regressa agora multiplicada em escala e intensidade\, transformando o recinto num verdadeiro templo do heavy metal. \n“Ficámos absolutamente impressionados com a reação extremamente positiva dos nossos fãs e da comunicação social à primeira fase da Run For Your Lives Tour”\, acrescenta Rod Smallwood. “Já sabíamos que tínhamos criado um espetáculo especial\, mas a energia dos fãs em cada concerto foi amplamente sentida pela banda e penso que todos experienciámos algo realmente memorável\, e provavelmente a nossa melhor digressão de sempre. Finalmente\, foi muito especial ver que a grande maioria dos fãs respeitou o nosso pedido para limitar severamente o uso de telemóveis nos concertos\, mantendo-os idealmente no bolso durante toda a atuação\, especialmente nas áreas de pé em frente ao palco. Infelizmente houve exceções\, mas\, na generalidade\, a compreensão e a cooperação dos fãs fez uma diferença colossal na atmosfera de cada concerto\, aumentando enormemente o prazer da banda e do público.” \nDesde 1984\, quando a banda se apresentou pela primeira vez em Portugal\, que a ligação entre os IRON MAIDEN e o público português se tornou um dos grandes capítulos da história do metal no nosso país. Do Pavilhão do Dramático de Cascais ao Estádio Nacional\, passando pela MEO Arena\, cada regresso tem sido vivido como um acontecimento histórico. No entanto\, 2026 vai marcar um ponto de viragem: os IRON MAIDEN apresentam finalmente um espetáculo de estádio em Lisboa com a produção mais grandiosa da sua carreira recente. \nSteve Harris e restantes membros do grupo têm sublinhado repetidamente o seu grande carinho pelo público luso\, destacando a energia e devoção das nossas plateias como das mais intensas de todo o mundo. A receção ao concerto de 2025 confirmou essa relação especial\, provando que\, em Portugal\, os IRON MAIDEN não são apenas uma banda: são um fenómeno cultural\, um elo entre gerações\, uma instituição que transcende o tempo. A 7 de Julho de 2026\, no Estádio da Luz\, essa visão será expandida a uma escala monumental\, prometendo um espetáculo que\, de certo\, ficará para sempre gravado na memória coletiva dos melómanos nacionais como o maior concerto de sempre dos IRON MAIDEN em Portugal.
URL:https://ocorre.pt/evento/iron-maiden/
LOCATION:Estadio da Luz\, Av. Eusébio da Silva Ferreira\, Lisboa\, Lisboa\, 1500-313\, Portugal
ATTACH;FMTTYPE=image/webp:https://ocorre.pt/wp-content/uploads/2025/09/IronMaiden-Evento-Main-2026.webp
END:VEVENT
END:VCALENDAR